BEGIN:VCALENDAR
PRODID:-//SINGPromos.com//NONSGML v1.0//EN
VERSION:2.0
CALSCALE:GREGORIAN
METHOD:PUBLISH
X-WR-CALNAME:SINGPromos.com
X-ORIGINAL-URL:https://singpromos.com
X-WR-CALDESC:Events for SINGPromos.com
BEGIN:VEVENT
DTSTART:20160930T000000
DTEND:20161009T235900
DTSTAMP:20260422T082133
CREATED:20161007T134533
LAST-MODIFIED:20161007T134533
UID:189571@https://singpromos.com
SUMMARY:Popular: Opening Sale - 15% Off Storewide & More at Northpoint & Compass One from 30 Sep - 9 Oct 2016
DESCRIPTION:Enjoy 15% off storewide and 10% off Gadgets and IT Products at Popular's Opening Sale at POPULAR Northpoint and Compass One this weekend.. For more information, visit [ https://singpromos.com/books/popular-opening-sale-15-off-storewide-more-at-northpoint-compass-one-from-30-sep-9-oct-2016-189571/ ]. 
LOCATION:
URL:https://singpromos.com/books/popular-opening-sale-15-off-storewide-more-at-northpoint-compass-one-from-30-sep-9-oct-2016-189571/
END:VEVENT
END:VCALENDAR