BEGIN:VCALENDAR
PRODID:-//SINGPromos.com//NONSGML v1.0//EN
VERSION:2.0
CALSCALE:GREGORIAN
METHOD:PUBLISH
X-WR-CALNAME:SINGPromos.com
X-ORIGINAL-URL:https://singpromos.com
X-WR-CALDESC:Events for SINGPromos.com
BEGIN:VEVENT
DTSTART:20161009T000000
DTEND:20161113T235900
DTSTAMP:20260420T023736
CREATED:20161009T004955
LAST-MODIFIED:20161114T184346
UID:189672@https://singpromos.com
SUMMARY:Cocoa Colony: 1-for-1 Hot Amazonian Gold Chocolate Drinks at 4 Outlets from 9 Oct 2016
DESCRIPTION:Save 50% off Cocoa Colony's Hot Amazonian Gold Chocolate Drinks redeemable all day daily at four outlets when you buy the deal at Qoo10. For more information, visit [ https://singpromos.com/dining-restaurants-food/cocoa-colony-1-for-1-hot-amazonian-gold-chocolate-drinks-at-4-outlets-from-9-oct-2016-189672/ ]. 
LOCATION:
URL:https://singpromos.com/dining-restaurants-food/cocoa-colony-1-for-1-hot-amazonian-gold-chocolate-drinks-at-4-outlets-from-9-oct-2016-189672/
END:VEVENT
END:VCALENDAR