BEGIN:VCALENDAR
PRODID:-//SINGPromos.com//NONSGML v1.0//EN
VERSION:2.0
CALSCALE:GREGORIAN
METHOD:PUBLISH
X-WR-CALNAME:SINGPromos.com
X-ORIGINAL-URL:https://singpromos.com
X-WR-CALDESC:Events for SINGPromos.com
BEGIN:VEVENT
DTSTART:20161007T000000
DTEND:20161031T235900
DTSTAMP:20260422T212636
CREATED:20161013T143323
LAST-MODIFIED:20161013T143223
UID:189840@https://singpromos.com
SUMMARY:DBS/POSB: 1-for-1 Deals Dining, Travel, Online & More from 7 - 31 Oct 2016
DESCRIPTION:Bag the best deals and enjoy great savings in October. Valid from 7 to 31 Oct 2016. Don't stop at dining, treat yourself with the best deals for shopping, travel, online and more!. For more information, visit [ https://singpromos.com/banks-credit-cards/dbsposb-1-for-1-deals-dining-travel-online-more-from-7-31-oct-2016-189840/ ]. 
LOCATION:
URL:https://singpromos.com/banks-credit-cards/dbsposb-1-for-1-deals-dining-travel-online-more-from-7-31-oct-2016-189840/
END:VEVENT
END:VCALENDAR