BEGIN:VCALENDAR
PRODID:-//SINGPromos.com//NONSGML v1.0//EN
VERSION:2.0
CALSCALE:GREGORIAN
METHOD:PUBLISH
X-WR-CALNAME:SINGPromos.com
X-ORIGINAL-URL:https://singpromos.com
X-WR-CALDESC:Events for SINGPromos.com
BEGIN:VEVENT
DTSTART:20161011T000000
DTEND:20161031T235900
DTSTAMP:20260422T081540
CREATED:20161012T193529
LAST-MODIFIED:20161012T193630
UID:189864@https://singpromos.com
SUMMARY:Royal Gong Cha Café: 1-for-1 on Drinks from 2pm to 4pm (Mon-Thu) at 3 Outlets from 11 Oct 2016
DESCRIPTION:Life always tastes better with a cup of tea. At Royal Gong Cha, they serve up freshly brewed tea in a cozy, relaxed setting, best for catch-ups and conversations.. For more information, visit [ https://singpromos.com/dining-restaurants-food/royal-gong-cha-cafe-1-for-1-on-drinks-from-2pm-to-4pm-mon-thu-at-3-outlets-from-11-oct-2016-189864/ ]. 
LOCATION:
URL:https://singpromos.com/dining-restaurants-food/royal-gong-cha-cafe-1-for-1-on-drinks-from-2pm-to-4pm-mon-thu-at-3-outlets-from-11-oct-2016-189864/
END:VEVENT
END:VCALENDAR