BEGIN:VCALENDAR
PRODID:-//SINGPromos.com//NONSGML v1.0//EN
VERSION:2.0
CALSCALE:GREGORIAN
METHOD:PUBLISH
X-WR-CALNAME:SINGPromos.com
X-ORIGINAL-URL:https://singpromos.com
X-WR-CALDESC:Events for SINGPromos.com
BEGIN:VEVENT
DTSTART:20161013T000000
DTEND:20161016T235900
DTSTAMP:20260422T212545
CREATED:20161013T113850
LAST-MODIFIED:20161013T114102
UID:189884@https://singpromos.com
SUMMARY:McDonald's: Honeydew McFlurry at $2 Promotion from 13 - 16 Oct 2016
DESCRIPTION:Good news! McDonald's Honeydew McFlurry is now available at $2 till the weekend is over. Indulge in the sweet aroma and creamy taste of this heavenly dessert. So yummy, this is totally saiko!. For more information, visit [ https://singpromos.com/dining-restaurants-food/mcdonalds-honeydew-mcflurry-at-2-promotion-from-13-16-oct-2016-189884/ ]. 
LOCATION:
URL:https://singpromos.com/dining-restaurants-food/mcdonalds-honeydew-mcflurry-at-2-promotion-from-13-16-oct-2016-189884/
END:VEVENT
END:VCALENDAR