BEGIN:VCALENDAR
PRODID:-//SINGPromos.com//NONSGML v1.0//EN
VERSION:2.0
CALSCALE:GREGORIAN
METHOD:PUBLISH
X-WR-CALNAME:SINGPromos.com
X-ORIGINAL-URL:https://singpromos.com
X-WR-CALDESC:Events for SINGPromos.com
BEGIN:VEVENT
DTSTART:20161013T000000
DTEND:20161016T235900
DTSTAMP:20260422T212636
CREATED:20161013T134056
LAST-MODIFIED:20161013T134056
UID:189895@https://singpromos.com
SUMMARY:Guardian: 20% OFF Storewide (NO Min Spend) from 13 - 16 Oct 2016
DESCRIPTION:Guardian is offering 20% Off storewide for a limited time. No minimum spend required. Excludes promotional items and promo packs, all baby milk formula & diapers, adult milk formula, prescription and pharmacy-only medicines. For more information, visit [ https://singpromos.com/department-stores/guardian-20-off-storewide-no-min-spend-from-13-16-oct-2016-189895/ ]. 
LOCATION:
URL:https://singpromos.com/department-stores/guardian-20-off-storewide-no-min-spend-from-13-16-oct-2016-189895/
END:VEVENT
END:VCALENDAR