BEGIN:VCALENDAR
PRODID:-//SINGPromos.com//NONSGML v1.0//EN
VERSION:2.0
CALSCALE:GREGORIAN
METHOD:PUBLISH
X-WR-CALNAME:SINGPromos.com
X-ORIGINAL-URL:https://singpromos.com
X-WR-CALDESC:Events for SINGPromos.com
BEGIN:VEVENT
DTSTART:20161013T000000
DTEND:20161016T235900
DTSTAMP:20260422T212626
CREATED:20161013T134235
LAST-MODIFIED:20161013T134235
UID:189899@https://singpromos.com
SUMMARY:Guardian: 20% Off Storewide Online Discount Coupon Code (NO Min Spend) from 13 - 16 Oct 2016
DESCRIPTION:Get 20% OFF discount at the Guardian online store. Guardian operates Singapore's largest health & beauty chain with 150 stores islandwide. Delivery fees are waived for any orders higher than $40.. For more information, visit [ https://singpromos.com/department-stores/guardian-20-off-storewide-online-discount-coupon-code-no-min-spend-from-13-16-oct-2016-189899/ ]. 
LOCATION:
URL:https://singpromos.com/department-stores/guardian-20-off-storewide-online-discount-coupon-code-no-min-spend-from-13-16-oct-2016-189899/
END:VEVENT
END:VCALENDAR