BEGIN:VCALENDAR
PRODID:-//SINGPromos.com//NONSGML v1.0//EN
VERSION:2.0
CALSCALE:GREGORIAN
METHOD:PUBLISH
X-WR-CALNAME:SINGPromos.com
X-ORIGINAL-URL:https://singpromos.com
X-WR-CALDESC:Events for SINGPromos.com
BEGIN:VEVENT
DTSTART:20161013T000000
DTEND:20161025T235900
DTSTAMP:20260422T212544
CREATED:20161013T153240
LAST-MODIFIED:20161013T143044
UID:189901@https://singpromos.com
SUMMARY:Takashimaya Lingerie Fair w/ Up to 70% Off from 13 - 25 Oct 2016
DESCRIPTION:Save up to 70% off at Takashimaya's Lingerie Fair now to Tue 25 Oct 2016 at Talking Hall, B1, Takashimaya Department Store. An extensive selection of gorgeous intimates at seductive prices.. For more information, visit [ https://singpromos.com/warehouse-sales/takashimaya-lingerie-fair-w-up-to-70-off-from-13-25-oct-2016-189901/ ]. 
LOCATION:238873
URL:https://singpromos.com/warehouse-sales/takashimaya-lingerie-fair-w-up-to-70-off-from-13-25-oct-2016-189901/
END:VEVENT
END:VCALENDAR