BEGIN:VCALENDAR
PRODID:-//SINGPromos.com//NONSGML v1.0//EN
VERSION:2.0
CALSCALE:GREGORIAN
METHOD:PUBLISH
X-WR-CALNAME:SINGPromos.com
X-ORIGINAL-URL:https://singpromos.com
X-WR-CALDESC:Events for SINGPromos.com
BEGIN:VEVENT
DTSTART:20161014T000000
DTEND:20161014T235900
DTSTAMP:20260422T212627
CREATED:20161013T153934
LAST-MODIFIED:20161013T154046
UID:189907@https://singpromos.com
SUMMARY:MILO Van will be making its next visit at Bedok Mall on 14 Oct 2016
DESCRIPTION:In support of Nathan, Milo will be mobilizing their MILO Van to various locations in Singapore. Join in for some MILO peng this Friday, 14 October at Bedok Mall. For more information, visit [ https://singpromos.com/dining-restaurants-food/milo-van-will-be-making-its-next-visit-at-bedok-mall-on-14-oct-2016-189907/ ]. 
LOCATION:467360
URL:https://singpromos.com/dining-restaurants-food/milo-van-will-be-making-its-next-visit-at-bedok-mall-on-14-oct-2016-189907/
END:VEVENT
END:VCALENDAR