BEGIN:VCALENDAR
PRODID:-//SINGPromos.com//NONSGML v1.0//EN
VERSION:2.0
CALSCALE:GREGORIAN
METHOD:PUBLISH
X-WR-CALNAME:SINGPromos.com
X-ORIGINAL-URL:https://singpromos.com
X-WR-CALDESC:Events for SINGPromos.com
BEGIN:VEVENT
DTSTART:20161015T000000
DTEND:20161016T235900
DTSTAMP:20260422T212637
CREATED:20161013T182116
LAST-MODIFIED:20161013T182116
UID:189918@https://singpromos.com
SUMMARY:Travel Treats Fair at Marina Bay Sands from 15 - 16 Oct 2016
DESCRIPTION:Be treated to more amazing travel deals to exciting destinations at Travel Treats 2016. Come on down to Marina Bay Sands, Hall A, on 15 or 16 October 2016 to book your year-end holiday getaway. For more information, visit [ https://singpromos.com/happenings/travel-treats-fair-at-marina-bay-sands-from-15-16-oct-2016-189918/ ]. 
LOCATION:018956
URL:https://singpromos.com/happenings/travel-treats-fair-at-marina-bay-sands-from-15-16-oct-2016-189918/
END:VEVENT
END:VCALENDAR