BEGIN:VCALENDAR
PRODID:-//SINGPromos.com//NONSGML v1.0//EN
VERSION:2.0
CALSCALE:GREGORIAN
METHOD:PUBLISH
X-WR-CALNAME:SINGPromos.com
X-ORIGINAL-URL:https://singpromos.com
X-WR-CALDESC:Events for SINGPromos.com
BEGIN:VEVENT
DTSTART:20161018T000000
DTEND:20161022T235900
DTSTAMP:20260422T082301
CREATED:20161018T193809
LAST-MODIFIED:20161022T003703
UID:190230@https://singpromos.com
SUMMARY:Comfort Taxis: $8 Off Fare Promo Code for Night Rides from 18 - 22 Oct 2016
DESCRIPTION:Get $8 off your taxi fare when you book via ComfortDelGro Taxi Booking App from 10pm to 6am and use promo code "RIDEON". Valid for trips made from 18-22 Oct between 10pm to 6am. For more information, visit [ https://singpromos.com/motor-vehicles/comfort-taxis-8-off-fare-promo-code-for-night-rides-from-18-20-oct-2016-190230/ ]. 
LOCATION:
URL:https://singpromos.com/motor-vehicles/comfort-taxis-8-off-fare-promo-code-for-night-rides-from-18-20-oct-2016-190230/
END:VEVENT
END:VCALENDAR