BEGIN:VCALENDAR
PRODID:-//SINGPromos.com//NONSGML v1.0//EN
VERSION:2.0
CALSCALE:GREGORIAN
METHOD:PUBLISH
X-WR-CALNAME:SINGPromos.com
X-ORIGINAL-URL:https://singpromos.com
X-WR-CALDESC:Events for SINGPromos.com
BEGIN:VEVENT
DTSTART:20161019T000000
DTEND:20161020T235900
DTSTAMP:20260420T052605
CREATED:20161019T000251
LAST-MODIFIED:20161019T000251
UID:190237@https://singpromos.com
SUMMARY:Groupon: 5% to 20% OFF ALL Beauty, Leisure & Services, Dining Deals (NO Min Spend) Promo Code from 19 - 20 Oct 2016
DESCRIPTION:Get 5% to 20% off ALL Beauty, Leisure & Services, Dining deals with the promo code below at checkout at Groupon Singapore. Valid only for Beauty, Leisure & Services, Dining deals (Beauty 20%, Leisure & Services 15%, Dining 5%). For more information, visit [ https://singpromos.com/department-stores/groupon-5-to-20-off-all-beauty-leisure-services-dining-deals-no-min-spend-promo-code-from-19-20-oct-2016-190237/ ]. 
LOCATION:
URL:https://singpromos.com/department-stores/groupon-5-to-20-off-all-beauty-leisure-services-dining-deals-no-min-spend-promo-code-from-19-20-oct-2016-190237/
END:VEVENT
END:VCALENDAR