BEGIN:VCALENDAR
PRODID:-//SINGPromos.com//NONSGML v1.0//EN
VERSION:2.0
CALSCALE:GREGORIAN
METHOD:PUBLISH
X-WR-CALNAME:SINGPromos.com
X-ORIGINAL-URL:https://singpromos.com
X-WR-CALDESC:Events for SINGPromos.com
BEGIN:VEVENT
DTSTART:20161021T000000
DTEND:20161027T235900
DTSTAMP:20260420T052604
CREATED:20161019T171315
LAST-MODIFIED:20161019T171315
UID:190275@https://singpromos.com
SUMMARY:Jenny Bakery: Roadshow w/ Special Offers at Hougang Mall from 21 - 27 Oct 2016
DESCRIPTION:Jenny Bakery will be celebrating their first anniversary with a special roadshow sale at Hougang Mall from 21 to 27 October 2016. Since it is their birthday, they will be offering "never-to-be-missed" special offers on their famous cookies.. For more information, visit [ https://singpromos.com/dining-restaurants-food/jenny-bakery-roadshow-w-special-offers-at-hougang-mall-from-21-27-oct-2016-190275/ ]. 
LOCATION:
URL:https://singpromos.com/dining-restaurants-food/jenny-bakery-roadshow-w-special-offers-at-hougang-mall-from-21-27-oct-2016-190275/
END:VEVENT
END:VCALENDAR