BEGIN:VCALENDAR
PRODID:-//SINGPromos.com//NONSGML v1.0//EN
VERSION:2.0
CALSCALE:GREGORIAN
METHOD:PUBLISH
X-WR-CALNAME:SINGPromos.com
X-ORIGINAL-URL:https://singpromos.com
X-WR-CALDESC:Events for SINGPromos.com
BEGIN:VEVENT
DTSTART:20161021T000000
DTEND:20161022T235900
DTSTAMP:20260420T052605
CREATED:20161021T001523
LAST-MODIFIED:20161021T001523
UID:190342@https://singpromos.com
SUMMARY:Groupon: 8% OFF ALL Goods Deals NO Min Spend Promo Coupon Code from 21 - 22 Oct 2016
DESCRIPTION:Get 8% off ALL goods deals with the promo code below at checkout at Groupon Singapore. The promo code is valid on goods deals only.. For more information, visit [ https://singpromos.com/department-stores/groupon-8-off-all-goods-deals-no-min-spend-promo-coupon-code-from-21-22-oct-2016-190342/ ]. 
LOCATION:
URL:https://singpromos.com/department-stores/groupon-8-off-all-goods-deals-no-min-spend-promo-coupon-code-from-21-22-oct-2016-190342/
END:VEVENT
END:VCALENDAR