BEGIN:VCALENDAR
PRODID:-//SINGPromos.com//NONSGML v1.0//EN
VERSION:2.0
CALSCALE:GREGORIAN
METHOD:PUBLISH
X-WR-CALNAME:SINGPromos.com
X-ORIGINAL-URL:https://singpromos.com
X-WR-CALDESC:Events for SINGPromos.com
BEGIN:VEVENT
DTSTART:20161021T000000
DTEND:20161022T235900
DTSTAMP:20260420T001543
CREATED:20161021T124015
LAST-MODIFIED:20161021T143047
UID:190370@https://singpromos.com
SUMMARY:Amazon UK: 24hr Deal - Braun 69% Off Series 3 3080 Men's Electric Foil Shaver Wet/Dry from 21 - 22 Oct 2016
DESCRIPTION:Get the Braun Series 3 3080 Men's Electric Foil Shaver Wet/Dry at 69% off. With MicroComb technology the series 3 catches and feeds more hair into the cutting parts, for a faster shave than ever before.. For more information, visit [ https://singpromos.com/personal-care/amazon-uk-24hr-deal-braun-69-off-series-3-3080-mens-electric-foil-shaver-wetdry-24hr-deal-from-21-22-oct-2016-190370/ ]. 
LOCATION:
URL:https://singpromos.com/personal-care/amazon-uk-24hr-deal-braun-69-off-series-3-3080-mens-electric-foil-shaver-wetdry-24hr-deal-from-21-22-oct-2016-190370/
END:VEVENT
END:VCALENDAR