BEGIN:VCALENDAR
PRODID:-//SINGPromos.com//NONSGML v1.0//EN
VERSION:2.0
CALSCALE:GREGORIAN
METHOD:PUBLISH
X-WR-CALNAME:SINGPromos.com
X-ORIGINAL-URL:https://singpromos.com
X-WR-CALDESC:Events for SINGPromos.com
BEGIN:VEVENT
DTSTART:20161024T000000
DTEND:20161030T235900
DTSTAMP:20260422T082309
CREATED:20161022T160742
LAST-MODIFIED:20161022T140959
UID:190461@https://singpromos.com
SUMMARY:Robinsons Travel Fair at Jem from 24 - 30 Oct 2016
DESCRIPTION:Upgrade your travel needs with these amazing luggage and accessories deals at Robinsons Travel Fair at Jem from Oct 24 - 30. For more information, visit [ https://singpromos.com/vacations/robinsons-travel-fair-at-jem-from-24-30-oct-2016-190461/ ]. 
LOCATION:608549
URL:https://singpromos.com/vacations/robinsons-travel-fair-at-jem-from-24-30-oct-2016-190461/
END:VEVENT
END:VCALENDAR