BEGIN:VCALENDAR
PRODID:-//SINGPromos.com//NONSGML v1.0//EN
VERSION:2.0
CALSCALE:GREGORIAN
METHOD:PUBLISH
X-WR-CALNAME:SINGPromos.com
X-ORIGINAL-URL:https://singpromos.com
X-WR-CALDESC:Events for SINGPromos.com
BEGIN:VEVENT
DTSTART:20161025T000000
DTEND:20161026T235900
DTSTAMP:20260420T034412
CREATED:20161025T001355
LAST-MODIFIED:20161025T001355
UID:190544@https://singpromos.com
SUMMARY:Groupon: 5% to 20% OFF ALL Beauty, Leisure & Services, Dining Deals (NO Min Spend) Promo Code from 25 - 26 Oct 2016
DESCRIPTION:Get 5% to 20% off ALL Beauty, Leisure & Services, Dining deals with the promo code below at checkout at Groupon Singapore. Valid only for Beauty, Leisure & Services, Dining deals (Beauty 20%, Leisure & Services 15%, Dining 5%). For more information, visit [ https://singpromos.com/department-stores/groupon-5-to-20-off-all-beauty-leisure-services-dining-deals-no-min-spend-promo-code-from-25-26-oct-2016-190544/ ]. 
LOCATION:
URL:https://singpromos.com/department-stores/groupon-5-to-20-off-all-beauty-leisure-services-dining-deals-no-min-spend-promo-code-from-25-26-oct-2016-190544/
END:VEVENT
END:VCALENDAR