BEGIN:VCALENDAR
PRODID:-//SINGPromos.com//NONSGML v1.0//EN
VERSION:2.0
CALSCALE:GREGORIAN
METHOD:PUBLISH
X-WR-CALNAME:SINGPromos.com
X-ORIGINAL-URL:https://singpromos.com
X-WR-CALDESC:Events for SINGPromos.com
BEGIN:VEVENT
DTSTART:20161026T000000
DTEND:20161026T235900
DTSTAMP:20260422T182249
CREATED:20161025T162435
LAST-MODIFIED:20161025T162605
UID:190587@https://singpromos.com
SUMMARY:Watsons: 1-Day Sale - Up To 50% Off Deals, Spend-n-Redeem & More for DBS / POSB / Watsons Cardholders on 26 Oct 2016
DESCRIPTION:Watsons is having a 1-day sale on 26 Oct 2016, 10am - 10pm at 62 selected stores exclusively for DBS/POSB Credit/Debit cardmembers and Watsons members. Up to 50% off hot buys. Spend & Redeem Freebies and more. For more information, visit [ https://singpromos.com/department-stores/watsons-1-day-sale-up-to-50-off-deals-spend-n-redeem-more-for-dbs-posb-watsons-cardholders-on-26-oct-2016-190587/ ]. 
LOCATION:
URL:https://singpromos.com/department-stores/watsons-1-day-sale-up-to-50-off-deals-spend-n-redeem-more-for-dbs-posb-watsons-cardholders-on-26-oct-2016-190587/
END:VEVENT
END:VCALENDAR