BEGIN:VCALENDAR
PRODID:-//SINGPromos.com//NONSGML v1.0//EN
VERSION:2.0
CALSCALE:GREGORIAN
METHOD:PUBLISH
X-WR-CALNAME:SINGPromos.com
X-ORIGINAL-URL:https://singpromos.com
X-WR-CALDESC:Events for SINGPromos.com
BEGIN:VEVENT
DTSTART:20161028T000000
DTEND:20161030T235900
DTSTAMP:20260422T202300
CREATED:20161027T195635
LAST-MODIFIED:20161028T142644
UID:190722@https://singpromos.com
SUMMARY:ECCO 20% Off Storewide Deepavali Promotion from 28 - 30 Oct '16
DESCRIPTION:ECCO will be holding a special promotion from 28 - 30 Oct 2016 this Deepavali. Enjoy 20% storewide for shoes, bags and small leather goods.. For more information, visit [ https://singpromos.com/dining-restaurants-food/ecco-20-off-storewide-deepavali-promotion-at-suntec-from-28-30-oct-16-190722/ ]. 
LOCATION:
URL:https://singpromos.com/dining-restaurants-food/ecco-20-off-storewide-deepavali-promotion-at-suntec-from-28-30-oct-16-190722/
END:VEVENT
END:VCALENDAR