BEGIN:VCALENDAR
PRODID:-//SINGPromos.com//NONSGML v1.0//EN
VERSION:2.0
CALSCALE:GREGORIAN
METHOD:PUBLISH
X-WR-CALNAME:SINGPromos.com
X-ORIGINAL-URL:https://singpromos.com
X-WR-CALDESC:Events for SINGPromos.com
BEGIN:VEVENT
DTSTART:20161029T000000
DTEND:20161029T235900
DTSTAMP:20260422T212540
CREATED:20161029T112231
LAST-MODIFIED:20161029T112359
UID:190844@https://singpromos.com
SUMMARY:FairPrice: 1-Day Flash Sale - Save up to $19.45 on 29 Oct 2016
DESCRIPTION:Stretch your dollar with FairPrice today with an array of fresh food and household essentials this Deepavali weekend! Find chicken, lamian, berries and more on attractive offer at any FairPrice outlet near you.. For more information, visit [ https://singpromos.com/dining-restaurants-food/fairprice-1-day-flash-sale-save-up-to-19-45-on-29-oct-2016-190844/ ]. 
LOCATION:
URL:https://singpromos.com/dining-restaurants-food/fairprice-1-day-flash-sale-save-up-to-19-45-on-29-oct-2016-190844/
END:VEVENT
END:VCALENDAR