BEGIN:VCALENDAR
PRODID:-//SINGPromos.com//NONSGML v1.0//EN
VERSION:2.0
CALSCALE:GREGORIAN
METHOD:PUBLISH
X-WR-CALNAME:SINGPromos.com
X-ORIGINAL-URL:https://singpromos.com
X-WR-CALDESC:Events for SINGPromos.com
BEGIN:VEVENT
DTSTART:20161028T000000
DTEND:20161231T235900
DTSTAMP:20260422T212513
CREATED:20161029T172211
LAST-MODIFIED:20161029T172211
UID:190872@https://singpromos.com
SUMMARY:Larry Jewelry has started their Sale from 28 Oct - 31 Dec 2016
DESCRIPTION:Larry Jewelry has started their Sale from 28 October to 31 December 2016. With every $1000 spent, you stand a chance to win a 2.45 carat Lazare Diamond Ring worth $48,300!. For more information, visit [ https://singpromos.com/jewellery/larry-jewelry-has-started-their-sale-from-28-oct-31-dec-2016-190872/ ]. 
LOCATION:
URL:https://singpromos.com/jewellery/larry-jewelry-has-started-their-sale-from-28-oct-31-dec-2016-190872/
END:VEVENT
END:VCALENDAR