BEGIN:VCALENDAR
PRODID:-//SINGPromos.com//NONSGML v1.0//EN
VERSION:2.0
CALSCALE:GREGORIAN
METHOD:PUBLISH
X-WR-CALNAME:SINGPromos.com
X-ORIGINAL-URL:https://singpromos.com
X-WR-CALDESC:Events for SINGPromos.com
BEGIN:VEVENT
DTSTART:20161028T000000
DTEND:20161210T235900
DTSTAMP:20260422T212513
CREATED:20161029T173154
LAST-MODIFIED:20161029T173154
UID:190877@https://singpromos.com
SUMMARY:Philips appliances (Air Fryer, Blender, etc) offers at Tangs from 28 Oct - 10 Dec 2016
DESCRIPTION:Upgrade your home for better living with Philips home appliances. Shop offers at Tangs from 28 Oct (Fri) to 10 Dec (Sat) and enjoy additional promotions below. For more information, visit [ https://singpromos.com/home-appliances/philips-appliances-air-fryer-blender-etc-offers-at-tangs-from-28-oct-10-dec-2016-190877/ ]. 
LOCATION:238864
URL:https://singpromos.com/home-appliances/philips-appliances-air-fryer-blender-etc-offers-at-tangs-from-28-oct-10-dec-2016-190877/
END:VEVENT
END:VCALENDAR