BEGIN:VCALENDAR
PRODID:-//SINGPromos.com//NONSGML v1.0//EN
VERSION:2.0
CALSCALE:GREGORIAN
METHOD:PUBLISH
X-WR-CALNAME:SINGPromos.com
X-ORIGINAL-URL:https://singpromos.com
X-WR-CALDESC:Events for SINGPromos.com
BEGIN:VEVENT
DTSTART:20161030T000000
DTEND:20161030T235900
DTSTAMP:20260422T212513
CREATED:20161030T144422
LAST-MODIFIED:20161030T144507
UID:190884@https://singpromos.com
SUMMARY:FairPrice: 1-Day Flash Sale - Save up to $29.85 Coca-Cola, Brand's, Milo & More on 30 Oct 2016
DESCRIPTION:Stretch your dollar with FairPrice today with Bird's Nest, soft drinks, diapers, kiwis and more on their One Day Special today. Head down to any outlet near you to Stretch Your Dollar with more great offers.. For more information, visit [ https://singpromos.com/dining-restaurants-food/fairprice-1-day-flash-sale-save-up-to-29-85-coca-cola-milo-huggies-more-on-30-oct-2016-190884/ ]. 
LOCATION:
URL:https://singpromos.com/dining-restaurants-food/fairprice-1-day-flash-sale-save-up-to-29-85-coca-cola-milo-huggies-more-on-30-oct-2016-190884/
END:VEVENT
END:VCALENDAR