BEGIN:VCALENDAR
PRODID:-//SINGPromos.com//NONSGML v1.0//EN
VERSION:2.0
CALSCALE:GREGORIAN
METHOD:PUBLISH
X-WR-CALNAME:SINGPromos.com
X-ORIGINAL-URL:https://singpromos.com
X-WR-CALDESC:Events for SINGPromos.com
BEGIN:VEVENT
DTSTART:20161104T000000
DTEND:20161106T235900
DTSTAMP:20260422T212540
CREATED:20161030T125121
LAST-MODIFIED:20161103T154838
UID:190891@https://singpromos.com
SUMMARY:Save up to 80% off at the Philips Year End Biggest Sale at Singapore Expo from 4 - 6 Nov 2016
DESCRIPTION:Save up to 80% off at the Philips year end biggest home appliances and TVs sale at Singapore EXPO Hall 6 from 4 - 6 November 2016, 11am-9pm. For more information, visit [ https://singpromos.com/warehouse-sales/save-up-to-80-off-at-the-philips-year-end-biggest-sale-at-singapore-expo-from-4-6-nov-2016-190891/ ]. 
LOCATION:486150
URL:https://singpromos.com/warehouse-sales/save-up-to-80-off-at-the-philips-year-end-biggest-sale-at-singapore-expo-from-4-6-nov-2016-190891/
END:VEVENT
END:VCALENDAR