BEGIN:VCALENDAR
PRODID:-//SINGPromos.com//NONSGML v1.0//EN
VERSION:2.0
CALSCALE:GREGORIAN
METHOD:PUBLISH
X-WR-CALNAME:SINGPromos.com
X-ORIGINAL-URL:https://singpromos.com
X-WR-CALDESC:Events for SINGPromos.com
BEGIN:VEVENT
DTSTART:20161030T000000
DTEND:20161030T235900
DTSTAMP:20260422T212637
CREATED:20161030T121316
LAST-MODIFIED:20161030T141409
UID:190900@https://singpromos.com
SUMMARY:FoodPanda: 25% OFF ($25 Min Spend) Coupon Code (ALL Customers) on 30 Oct 2016
DESCRIPTION:Enjoy 25% OFF at FoodPanda for a limited time only! One time use only. Valid for ALL customers. $25 min spend.. For more information, visit [ https://singpromos.com/dining-restaurants-food/foodpanda-25-off-25-min-spend-coupon-code-all-customers-on-30-oct-2016-190900/ ]. 
LOCATION:
URL:https://singpromos.com/dining-restaurants-food/foodpanda-25-off-25-min-spend-coupon-code-all-customers-on-30-oct-2016-190900/
END:VEVENT
END:VCALENDAR