BEGIN:VCALENDAR
PRODID:-//SINGPromos.com//NONSGML v1.0//EN
VERSION:2.0
CALSCALE:GREGORIAN
METHOD:PUBLISH
X-WR-CALNAME:SINGPromos.com
X-ORIGINAL-URL:https://singpromos.com
X-WR-CALDESC:Events for SINGPromos.com
BEGIN:VEVENT
DTSTART:20161031T000000
DTEND:20161031T235900
DTSTAMP:20260422T212544
CREATED:20161031T001104
LAST-MODIFIED:20161031T001104
UID:190904@https://singpromos.com
SUMMARY:Sephora is offering FREE Shipping (NO Min Spend) (inc Excluded Brands) on 31 Oct 2016
DESCRIPTION:Enjoy FREE Shipping at Sephora's online store (previously Luxola) with the coupon code below. NO Minimum spend! No excluded brands!. For more information, visit [ https://singpromos.com/department-stores/sephora-is-offering-free-shipping-no-min-spend-inc-excluded-brands-on-31-oct-2016-190904/ ]. 
LOCATION:
URL:https://singpromos.com/department-stores/sephora-is-offering-free-shipping-no-min-spend-inc-excluded-brands-on-31-oct-2016-190904/
END:VEVENT
END:VCALENDAR