BEGIN:VCALENDAR
PRODID:-//SINGPromos.com//NONSGML v1.0//EN
VERSION:2.0
CALSCALE:GREGORIAN
METHOD:PUBLISH
X-WR-CALNAME:SINGPromos.com
X-ORIGINAL-URL:https://singpromos.com
X-WR-CALDESC:Events for SINGPromos.com
BEGIN:VEVENT
DTSTART:20161031T000000
DTEND:20161031T235900
DTSTAMP:20260420T034413
CREATED:20161031T010033
LAST-MODIFIED:20161031T010033
UID:190913@https://singpromos.com
SUMMARY:Groupon: 5% OFF ALL Deals (NO Min Spend) Promo Code on 31 Oct 2016
DESCRIPTION:Get 5% ALL deals with the promo code below at checkout at Groupon Singapore. Maximum discount of $20. For more information, visit [ https://singpromos.com/department-stores/groupon-5-off-all-deals-no-min-spend-promo-code-on-31-oct-2016-190913/ ]. 
LOCATION:
URL:https://singpromos.com/department-stores/groupon-5-off-all-deals-no-min-spend-promo-code-on-31-oct-2016-190913/
END:VEVENT
END:VCALENDAR