BEGIN:VCALENDAR
PRODID:-//SINGPromos.com//NONSGML v1.0//EN
VERSION:2.0
CALSCALE:GREGORIAN
METHOD:PUBLISH
X-WR-CALNAME:SINGPromos.com
X-ORIGINAL-URL:https://singpromos.com
X-WR-CALDESC:Events for SINGPromos.com
BEGIN:VEVENT
DTSTART:20161031T000000
DTEND:20161031T235900
DTSTAMP:20260422T212636
CREATED:20161031T103908
LAST-MODIFIED:20161031T103908
UID:190919@https://singpromos.com
SUMMARY:Cotton On: 1-Day Sale - 31% OFF Sitewide Men, Women, Kids, Typo, Body & More on 31 Oct 2016
DESCRIPTION:Enjoy 31% off everything sitewide (Women, Men, Kids, Typo, Body, etc) at Cotton On's online store. Free shipping on Singapore orders over S$50. No Cotton On code required.. For more information, visit [ https://singpromos.com/fashion-accessories/cotton-on-1-day-sale-31-off-sitewide-men-women-kids-typo-body-more-on-31-oct-2016-190919/ ]. 
LOCATION:
URL:https://singpromos.com/fashion-accessories/cotton-on-1-day-sale-31-off-sitewide-men-women-kids-typo-body-more-on-31-oct-2016-190919/
END:VEVENT
END:VCALENDAR