BEGIN:VCALENDAR
PRODID:-//SINGPromos.com//NONSGML v1.0//EN
VERSION:2.0
CALSCALE:GREGORIAN
METHOD:PUBLISH
X-WR-CALNAME:SINGPromos.com
X-ORIGINAL-URL:https://singpromos.com
X-WR-CALDESC:Events for SINGPromos.com
BEGIN:VEVENT
DTSTART:20161104T000000
DTEND:20161106T235900
DTSTAMP:20260420T035052
CREATED:20161031T115420
LAST-MODIFIED:20161105T135254
UID:190929@https://singpromos.com
SUMMARY:Save up to 80% off Nike, North Face, New Balance, Asics & more at Outdoor Venture's Warehouse Clearance sale from 4 - 6 Nov 2016
DESCRIPTION:Outdoor Venture will be having a Warehouse Clearance Sale from 4 to 6 Nov. Enjoy up to 80% off winter & sports apparel, backpacks, running & hiking shoes, accessories and more. For more information, visit [ https://singpromos.com/warehouse-sales/save-up-to-80-off-nike-north-face-new-balance-asics-more-at-outdoor-ventures-warehouse-clearance-sale-from-4-6-nov-2016-190929/ ]. 
LOCATION:17 Kaki Bukit Crescent, 416248
URL:https://singpromos.com/warehouse-sales/save-up-to-80-off-nike-north-face-new-balance-asics-more-at-outdoor-ventures-warehouse-clearance-sale-from-4-6-nov-2016-190929/
END:VEVENT
END:VCALENDAR