BEGIN:VCALENDAR
PRODID:-//SINGPromos.com//NONSGML v1.0//EN
VERSION:2.0
CALSCALE:GREGORIAN
METHOD:PUBLISH
X-WR-CALNAME:SINGPromos.com
X-ORIGINAL-URL:https://singpromos.com
X-WR-CALDESC:Events for SINGPromos.com
BEGIN:VEVENT
DTSTART:20161031T000000
DTEND:20161102T235900
DTSTAMP:20260422T212637
CREATED:20161031T143442
LAST-MODIFIED:20161101T233745
UID:190942@https://singpromos.com
SUMMARY:IT'S BACK! Free Gong Cha Bubble Milk Tea with Pearl at all outlets from 31 Oct - 2 Nov 2016
DESCRIPTION:Yes it's back again due to overwhelming response! Grab a FREE Gong Cha Bubble Milk Tea with Pearl when you show your Like for Philips TV Singapore's Facebook page.. For more information, visit [ https://singpromos.com/dining-restaurants-food/its-back-free-gong-cha-bubble-milk-tea-with-pearl-at-all-outlets-on-31-oct-2016-190942/ ]. 
LOCATION:
URL:https://singpromos.com/dining-restaurants-food/its-back-free-gong-cha-bubble-milk-tea-with-pearl-at-all-outlets-on-31-oct-2016-190942/
END:VEVENT
END:VCALENDAR