BEGIN:VCALENDAR
PRODID:-//SINGPromos.com//NONSGML v1.0//EN
VERSION:2.0
CALSCALE:GREGORIAN
METHOD:PUBLISH
X-WR-CALNAME:SINGPromos.com
X-ORIGINAL-URL:https://singpromos.com
X-WR-CALDESC:Events for SINGPromos.com
BEGIN:VEVENT
DTSTART:20161031T000000
DTEND:20161120T235900
DTSTAMP:20260422T212732
CREATED:20161031T135850
LAST-MODIFIED:20161031T140437
UID:190951@https://singpromos.com
SUMMARY:Zuji: 5% OFF Flights & 6% Off Package Bookings (NO Min Spend) For MasterCard Cardmembers from 31 Oct - 20 Nov 2016
DESCRIPTION:Enjoy an additional 5% OFF flights and 6% off package bookings for MasterCard cardmembers only. Additional $50 rebate with payment via a Stored Mastercard. For more information, visit [ https://singpromos.com/vacations/zuji-5-off-flights-6-off-package-bookings-no-min-spend-for-mastercard-cardmembers-from-31-oct-20-nov-2016-190951/ ]. 
LOCATION:
URL:https://singpromos.com/vacations/zuji-5-off-flights-6-off-package-bookings-no-min-spend-for-mastercard-cardmembers-from-31-oct-20-nov-2016-190951/
END:VEVENT
END:VCALENDAR