BEGIN:VCALENDAR
PRODID:-//SINGPromos.com//NONSGML v1.0//EN
VERSION:2.0
CALSCALE:GREGORIAN
METHOD:PUBLISH
X-WR-CALNAME:SINGPromos.com
X-ORIGINAL-URL:https://singpromos.com
X-WR-CALDESC:Events for SINGPromos.com
BEGIN:VEVENT
DTSTART:20161101T000000
DTEND:20161106T235900
DTSTAMP:20260420T042626
CREATED:20161031T171609
LAST-MODIFIED:20161031T171709
UID:190981@https://singpromos.com
SUMMARY:TOKYU HANDS: New Suntec Outlet Grand Opening Promotions from 1 Nov 2016
DESCRIPTION:TOKYU HANDS celebrates the grand opening day for their 3rd outlet at Suntec City Mall from 1 November. In conjunction with the grand opening, they will be having open sales and various kind of promotions. For more information, visit [ https://singpromos.com/department-stores/tokyu-hands-new-suntec-outlet-grand-opening-promotions-from-1-nov-2016-190981/ ]. 
LOCATION:038983
URL:https://singpromos.com/department-stores/tokyu-hands-new-suntec-outlet-grand-opening-promotions-from-1-nov-2016-190981/
END:VEVENT
END:VCALENDAR