BEGIN:VCALENDAR
PRODID:-//SINGPromos.com//NONSGML v1.0//EN
VERSION:2.0
CALSCALE:GREGORIAN
METHOD:PUBLISH
X-WR-CALNAME:SINGPromos.com
X-ORIGINAL-URL:https://singpromos.com
X-WR-CALDESC:Events for SINGPromos.com
BEGIN:VEVENT
DTSTART:20161101T000000
DTEND:20161101T235900
DTSTAMP:20260422T195635
CREATED:20161031T172746
LAST-MODIFIED:20161031T172746
UID:190988@https://singpromos.com
SUMMARY:Scoot: Fares fr $45 all-in to 22 Destinations 2hr Take Off Tuesday Promo (7am to 9am) on 1 Nov 2016
DESCRIPTION:Escape the ordinary with Super Scootee. Check out fares at Scott's Take Off Tuesday sale featuring all-in fares fr $45 to 22 destinations. For more information, visit [ https://singpromos.com/airlines-flights/scoot-fares-fr-45-all-in-to-22-destinations-2hr-take-off-tuesday-promo-7am-to-9am-on-1-nov-2016-190988/ ]. 
LOCATION:
URL:https://singpromos.com/airlines-flights/scoot-fares-fr-45-all-in-to-22-destinations-2hr-take-off-tuesday-promo-7am-to-9am-on-1-nov-2016-190988/
END:VEVENT
END:VCALENDAR