BEGIN:VCALENDAR
PRODID:-//SINGPromos.com//NONSGML v1.0//EN
VERSION:2.0
CALSCALE:GREGORIAN
METHOD:PUBLISH
X-WR-CALNAME:SINGPromos.com
X-ORIGINAL-URL:https://singpromos.com
X-WR-CALDESC:Events for SINGPromos.com
BEGIN:VEVENT
DTSTART:20161101T000000
DTEND:20161130T235900
DTSTAMP:20260422T195449
CREATED:20161031T174923
LAST-MODIFIED:20161031T174923
UID:190990@https://singpromos.com
SUMMARY:Zalora: 15% OFF ($120 Min Spend) Reg-Priced Items w/ Free Shipping Coupon Code from 1 - 30 Nov 2016
DESCRIPTION:Get 15% off Reg-Priced Items with this coupon code. Brand exclusions apply. Free delivery when you spend $40. For more information, visit [ https://singpromos.com/department-stores/zalora-15-off-120-min-spend-reg-priced-items-w-free-shipping-coupon-code-from-1-30-nov-2016-190990/ ]. 
LOCATION:
URL:https://singpromos.com/department-stores/zalora-15-off-120-min-spend-reg-priced-items-w-free-shipping-coupon-code-from-1-30-nov-2016-190990/
END:VEVENT
END:VCALENDAR