BEGIN:VCALENDAR
PRODID:-//SINGPromos.com//NONSGML v1.0//EN
VERSION:2.0
CALSCALE:GREGORIAN
METHOD:PUBLISH
X-WR-CALNAME:SINGPromos.com
X-ORIGINAL-URL:https://singpromos.com
X-WR-CALDESC:Events for SINGPromos.com
BEGIN:VEVENT
DTSTART:20161103T000000
DTEND:20161106T235900
DTSTAMP:20260422T195623
CREATED:20161031T191251
LAST-MODIFIED:20161103T013416
UID:191006@https://singpromos.com
SUMMARY:Isetan Expo Sale: Japan Food Fair, Japan Jewellery, $10 Special Buys & More from 3 - 6 Nov 2016
DESCRIPTION:Isetan will be having an Expo sale from 3 - 6 Nov at Singapore Expo Hall 5B, 1030am to 10pm. Check out gift with purchase offers, Japan Food Fair, $10 special buys and many more. For more information, visit [ https://singpromos.com/warehouse-sales/isetan-expo-sale-from-3-6-nov-2016-191006/ ]. 
LOCATION:486150
URL:https://singpromos.com/warehouse-sales/isetan-expo-sale-from-3-6-nov-2016-191006/
END:VEVENT
END:VCALENDAR