BEGIN:VCALENDAR
PRODID:-//SINGPromos.com//NONSGML v1.0//EN
VERSION:2.0
CALSCALE:GREGORIAN
METHOD:PUBLISH
X-WR-CALNAME:SINGPromos.com
X-ORIGINAL-URL:https://singpromos.com
X-WR-CALDESC:Events for SINGPromos.com
BEGIN:VEVENT
DTSTART:20161101T000000
DTEND:20161110T235900
DTSTAMP:20260422T195533
CREATED:20161031T191925
LAST-MODIFIED:20161031T192040
UID:191012@https://singpromos.com
SUMMARY:Isetan Hokkaido Harvest Fair at Shaw House from 1 - 10 Nov 2016
DESCRIPTION:Check out Hokkaido offers at Isetan from 1 - 21 November on the dates below. The Hokkaido Kokubo desserts uses techniques to bring out the rich flavour of the green tea in dessert confectionaries.. For more information, visit [ https://singpromos.com/happenings/isetan-hokkaido-harvest-fair-at-shaw-house-from-1-10-nov-2016-191012/ ]. 
LOCATION:238868
URL:https://singpromos.com/happenings/isetan-hokkaido-harvest-fair-at-shaw-house-from-1-10-nov-2016-191012/
END:VEVENT
END:VCALENDAR