BEGIN:VCALENDAR
PRODID:-//SINGPromos.com//NONSGML v1.0//EN
VERSION:2.0
CALSCALE:GREGORIAN
METHOD:PUBLISH
X-WR-CALNAME:SINGPromos.com
X-ORIGINAL-URL:https://singpromos.com
X-WR-CALDESC:Events for SINGPromos.com
BEGIN:VEVENT
DTSTART:20161111T000000
DTEND:20161121T235900
DTSTAMP:20260422T195622
CREATED:20161031T192033
LAST-MODIFIED:20161031T192033
UID:191017@https://singpromos.com
SUMMARY:Isetan Hokkaido Harvest Fair at Westgate from 11 - 21 Nov 2016
DESCRIPTION:Check out Hokkaido offers at Isetan from 1 - 21 November on the dates below. The Hokkaido Kokubo desserts uses techniques to bring out the rich flavour of the green tea in dessert confectionaries.. For more information, visit [ https://singpromos.com/happenings/isetan-hokkaido-harvest-fair-at-westgate-from-11-21-nov-2016-191017/ ]. 
LOCATION:608532
URL:https://singpromos.com/happenings/isetan-hokkaido-harvest-fair-at-westgate-from-11-21-nov-2016-191017/
END:VEVENT
END:VCALENDAR