BEGIN:VCALENDAR
PRODID:-//SINGPromos.com//NONSGML v1.0//EN
VERSION:2.0
CALSCALE:GREGORIAN
METHOD:PUBLISH
X-WR-CALNAME:SINGPromos.com
X-ORIGINAL-URL:https://singpromos.com
X-WR-CALDESC:Events for SINGPromos.com
BEGIN:VEVENT
DTSTART:20161102T000000
DTEND:20161102T235900
DTSTAMP:20260420T034320
CREATED:20161102T002037
LAST-MODIFIED:20161102T002037
UID:191125@https://singpromos.com
SUMMARY:Groupon: 8% OFF ALL Goods Deals NO Min Spend Promo Coupon Code on 2 Nov 2016
DESCRIPTION:Get 8% off ALL goods deals with the promo code below at checkout at Groupon Singapore. The promo code is valid on goods deals only.. For more information, visit [ https://singpromos.com/department-stores/groupon-8-off-all-goods-deals-no-min-spend-promo-coupon-code-on-2-nov-2016-191125/ ]. 
LOCATION:
URL:https://singpromos.com/department-stores/groupon-8-off-all-goods-deals-no-min-spend-promo-coupon-code-on-2-nov-2016-191125/
END:VEVENT
END:VCALENDAR