BEGIN:VCALENDAR
PRODID:-//SINGPromos.com//NONSGML v1.0//EN
VERSION:2.0
CALSCALE:GREGORIAN
METHOD:PUBLISH
X-WR-CALNAME:SINGPromos.com
X-ORIGINAL-URL:https://singpromos.com
X-WR-CALDESC:Events for SINGPromos.com
BEGIN:VEVENT
DTSTART:20161108T000000
DTEND:20161114T235900
DTSTAMP:20260422T082320
CREATED:20161107T165420
LAST-MODIFIED:20161107T165518
UID:191493@https://singpromos.com
SUMMARY:Get $5 off Comfort Taxi rides with this promo code valid from 8 - 14 Nov 2016
DESCRIPTION:Get $5 off your taxi fare when you book via ComfortDelGro Taxi Booking App from the 8th of November to 14th November and use the promo code "FB5". For more information, visit [ https://singpromos.com/motor-vehicles/get-5-off-comfort-taxi-rides-with-this-promo-code-valid-from-8-14-nov-2016-191493/ ]. 
LOCATION:
URL:https://singpromos.com/motor-vehicles/get-5-off-comfort-taxi-rides-with-this-promo-code-valid-from-8-14-nov-2016-191493/
END:VEVENT
END:VCALENDAR