BEGIN:VCALENDAR
PRODID:-//SINGPromos.com//NONSGML v1.0//EN
VERSION:2.0
CALSCALE:GREGORIAN
METHOD:PUBLISH
X-WR-CALNAME:SINGPromos.com
X-ORIGINAL-URL:https://singpromos.com
X-WR-CALDESC:Events for SINGPromos.com
BEGIN:VEVENT
DTSTART:20111119T000000
DTEND:20111127T235900
DTSTAMP:20260420T220300
CREATED:20111119T041011
LAST-MODIFIED:20111128T025637
UID:19158@https://singpromos.com
SUMMARY:Sentosa 55% Off Cable Car, Butterfly Park, Segway, 4D Magix / 3D Extreme Log Ride & More 19 Nov 2011
DESCRIPTION:Explore Sentosa with this deal: $45 nett instead of $100 for Cable Car + Cable Car Museum + Admission + Butterfly Park & Insect Kingdom + Birdfeeding + Hi-Tea Meal + 2 Rounds Segway + 4D Magix/3D Extreme Log Ride + Monorail + $10 Attraction Vouchers - that's 55% off the usual price!. For more information, visit [ https://singpromos.com/places-of-interest/sentosa-55-off-cable-car-butterfly-park-segway-4d-magix-3d-extreme-log-ride-more-19-nov-2011-19158/ ]. 
LOCATION:
URL:https://singpromos.com/places-of-interest/sentosa-55-off-cable-car-butterfly-park-segway-4d-magix-3d-extreme-log-ride-more-19-nov-2011-19158/
END:VEVENT
END:VCALENDAR