BEGIN:VCALENDAR
PRODID:-//SINGPromos.com//NONSGML v1.0//EN
VERSION:2.0
CALSCALE:GREGORIAN
METHOD:PUBLISH
X-WR-CALNAME:SINGPromos.com
X-ORIGINAL-URL:https://singpromos.com
X-WR-CALDESC:Events for SINGPromos.com
BEGIN:VEVENT
DTSTART:20160726T000000
DTEND:20170103T235900
DTSTAMP:20260422T210939
CREATED:20161110T173802
LAST-MODIFIED:20161110T174011
UID:191721@https://singpromos.com
SUMMARY:Paradise Dynasty offers 50% off Xiao Long Bao, La Mian, Dim Sum & More at 4 Outlets from 26 Jul 2016
DESCRIPTION:What's better than enjoying a happy tea time with your friends or family at an incredible 50% off Paradise Dynasty's xiao long bao, la mian, dim sum and desserts? You can enjoy just that at selected Paradise Dynasty outlets during tea time. For more information, visit [ https://singpromos.com/dining-restaurants-food/paradise-dynasty-offers-50-off-xiao-long-bao-la-mian-dim-sum-more-at-4-outlets-from-26-jul-2016-191721/ ]. 
LOCATION:
URL:https://singpromos.com/dining-restaurants-food/paradise-dynasty-offers-50-off-xiao-long-bao-la-mian-dim-sum-more-at-4-outlets-from-26-jul-2016-191721/
END:VEVENT
END:VCALENDAR