BEGIN:VCALENDAR
PRODID:-//SINGPromos.com//NONSGML v1.0//EN
VERSION:2.0
CALSCALE:GREGORIAN
METHOD:PUBLISH
X-WR-CALNAME:SINGPromos.com
X-ORIGINAL-URL:https://singpromos.com
X-WR-CALDESC:Events for SINGPromos.com
BEGIN:VEVENT
DTSTART:20161111T000000
DTEND:20161117T235900
DTSTAMP:20260420T034412
CREATED:20161110T212657
LAST-MODIFIED:20161110T212657
UID:191734@https://singpromos.com
SUMMARY:Groupon: 20% OFF Coupon Code NO Min Spend for UOB Cardmembers from 11 - 17 Nov 2016
DESCRIPTION:Get 20% off any single deal with the promo code below at checkout at Groupon Singapore. For UOB cardmembers only. Customers can use the promo code to buy up to 1 single voucher from any category.. For more information, visit [ https://singpromos.com/department-stores/groupon-20-off-coupon-code-no-min-spend-for-uob-cardmembers-from-11-17-nov-2016-191734/ ]. 
LOCATION:
URL:https://singpromos.com/department-stores/groupon-20-off-coupon-code-no-min-spend-for-uob-cardmembers-from-11-17-nov-2016-191734/
END:VEVENT
END:VCALENDAR