BEGIN:VCALENDAR
PRODID:-//SINGPromos.com//NONSGML v1.0//EN
VERSION:2.0
CALSCALE:GREGORIAN
METHOD:PUBLISH
X-WR-CALNAME:SINGPromos.com
X-ORIGINAL-URL:https://singpromos.com
X-WR-CALDESC:Events for SINGPromos.com
BEGIN:VEVENT
DTSTART:20161111T000000
DTEND:20161113T235900
DTSTAMP:20260422T082316
CREATED:20161111T004701
LAST-MODIFIED:20161111T103230
UID:191752@https://singpromos.com
SUMMARY:Save $5 off Comfort Taxi rides with this promo code valid from 11 - 13 Nov 2016
DESCRIPTION:Get $5 off your taxi fare when you book via ComfortDelGro Taxi Booking App from the 11th of November to 13th November and use the promo code "LAZRIDEAWAY". Valid for the first 2000 redemptions. For more information, visit [ https://singpromos.com/motor-vehicles/save-5-off-comfort-taxi-rides-with-this-promo-code-valid-from-11-13-nov-2016-191752/ ]. 
LOCATION:
URL:https://singpromos.com/motor-vehicles/save-5-off-comfort-taxi-rides-with-this-promo-code-valid-from-11-13-nov-2016-191752/
END:VEVENT
END:VCALENDAR