BEGIN:VCALENDAR
PRODID:-//SINGPromos.com//NONSGML v1.0//EN
VERSION:2.0
CALSCALE:GREGORIAN
METHOD:PUBLISH
X-WR-CALNAME:SINGPromos.com
X-ORIGINAL-URL:https://singpromos.com
X-WR-CALDESC:Events for SINGPromos.com
BEGIN:VEVENT
DTSTART:20161111T000000
DTEND:20161111T235900
DTSTAMP:20260422T082320
CREATED:20161111T011051
LAST-MODIFIED:20161111T011051
UID:191764@https://singpromos.com
SUMMARY:Charles & Keith FLASH Sale - 10% off all reg-priced items on 11 Nov 2016
DESCRIPTION:Enjoy 10% off on all regular priced items at Charles & Keith on Singles day, 11 November only. What's more, free Standard Delivery on all orders. For more information, visit [ https://singpromos.com/fashion-accessories/charles-keith-flash-sale-10-off-all-reg-priced-items-on-11-nov-2016-191764/ ]. 
LOCATION:
URL:https://singpromos.com/fashion-accessories/charles-keith-flash-sale-10-off-all-reg-priced-items-on-11-nov-2016-191764/
END:VEVENT
END:VCALENDAR