BEGIN:VCALENDAR
PRODID:-//SINGPromos.com//NONSGML v1.0//EN
VERSION:2.0
CALSCALE:GREGORIAN
METHOD:PUBLISH
X-WR-CALNAME:SINGPromos.com
X-ORIGINAL-URL:https://singpromos.com
X-WR-CALDESC:Events for SINGPromos.com
BEGIN:VEVENT
DTSTART:20161112T000000
DTEND:20161130T235900
DTSTAMP:20260420T034412
CREATED:20161112T133354
LAST-MODIFIED:20161201T170452
UID:191873@https://singpromos.com
SUMMARY:Groupon: 8% OFF Sitewide Valid for ANY Deal (NO Min Spend) Promo Code from 12 Nov 2016
DESCRIPTION:Get 8% off ANY deals with the promo code below at checkout at Groupon Singapore. Valid for any deal. Discount capped at $5. For more information, visit [ https://singpromos.com/department-stores/groupon-8-off-sitewide-valid-for-any-deal-no-min-spend-promo-code-on-12-nov-2016-191873/ ]. 
LOCATION:
URL:https://singpromos.com/department-stores/groupon-8-off-sitewide-valid-for-any-deal-no-min-spend-promo-code-on-12-nov-2016-191873/
END:VEVENT
END:VCALENDAR