BEGIN:VCALENDAR
PRODID:-//SINGPromos.com//NONSGML v1.0//EN
VERSION:2.0
CALSCALE:GREGORIAN
METHOD:PUBLISH
X-WR-CALNAME:SINGPromos.com
X-ORIGINAL-URL:https://singpromos.com
X-WR-CALDESC:Events for SINGPromos.com
BEGIN:VEVENT
DTSTART:20161109T000000
DTEND:20161130T235900
DTSTAMP:20260420T042718
CREATED:20161112T193921
LAST-MODIFIED:20161201T114512
UID:191917@https://singpromos.com
SUMMARY:Tony Roma's: 50% off $35 cash voucher deal valid at Suntec & Orchard Central from 9 Nov 2016
DESCRIPTION:Get a Tony Roma's cash voucher worth $35 at 50% off with their online deal. Valid for redemption at Tony Roma's Orchard Central and Suntec City outlets. For more information, visit [ https://singpromos.com/dining-restaurants-food/tony-romas-50-off-35-cash-voucher-deal-valid-at-suntec-orchard-central-from-9-nov-2016-191917/ ]. 
LOCATION:
URL:https://singpromos.com/dining-restaurants-food/tony-romas-50-off-35-cash-voucher-deal-valid-at-suntec-orchard-central-from-9-nov-2016-191917/
END:VEVENT
END:VCALENDAR