BEGIN:VCALENDAR
PRODID:-//SINGPromos.com//NONSGML v1.0//EN
VERSION:2.0
CALSCALE:GREGORIAN
METHOD:PUBLISH
X-WR-CALNAME:SINGPromos.com
X-ORIGINAL-URL:https://singpromos.com
X-WR-CALDESC:Events for SINGPromos.com
BEGIN:VEVENT
DTSTART:20161115T000000
DTEND:20170105T235900
DTSTAMP:20260420T034321
CREATED:20161115T145354
LAST-MODIFIED:20170106T122219
UID:192026@https://singpromos.com
SUMMARY:(Over 4,700 Sold) Save over 50% off Chicken Up's Korean Chicken Wings at 6 outlets with this Groupon deal from 15 Nov 2016
DESCRIPTION:Seasoned with spices and oozing flavours unique to Korea, Chicken Up serves a selection of dishes from that region with fried chicken as its specialty menu item.. For more information, visit [ https://singpromos.com/dining-restaurants-food/over-4700-sold-save-over-50-off-chicken-ups-korean-chicken-wings-at-6-outlets-with-this-groupon-deal-from-15-nov-2016-192026/ ]. 
LOCATION:
URL:https://singpromos.com/dining-restaurants-food/over-4700-sold-save-over-50-off-chicken-ups-korean-chicken-wings-at-6-outlets-with-this-groupon-deal-from-15-nov-2016-192026/
END:VEVENT
END:VCALENDAR