BEGIN:VCALENDAR
PRODID:-//SINGPromos.com//NONSGML v1.0//EN
VERSION:2.0
CALSCALE:GREGORIAN
METHOD:PUBLISH
X-WR-CALNAME:SINGPromos.com
X-ORIGINAL-URL:https://singpromos.com
X-WR-CALDESC:Events for SINGPromos.com
BEGIN:VEVENT
DTSTART:20161115T000000
DTEND:20161121T235900
DTSTAMP:20260422T082130
CREATED:20161115T155910
LAST-MODIFIED:20161116T172738
UID:192051@https://singpromos.com
SUMMARY:Comfort Delgro releases new $6 off taxi ride promo code valid from 15 - 21 Nov 2016
DESCRIPTION:Get $6 off your taxi fare when you book via ComfortDelGro Taxi Booking App from the 15th of November to 21st November and use the promo code "FB6". Valid for the first 1000 redemptions. For more information, visit [ https://singpromos.com/motor-vehicles/comfort-delgro-releases-new-6-off-taxi-ride-promo-code-valid-from-15-21-nov-2016-192051/ ]. 
LOCATION:
URL:https://singpromos.com/motor-vehicles/comfort-delgro-releases-new-6-off-taxi-ride-promo-code-valid-from-15-21-nov-2016-192051/
END:VEVENT
END:VCALENDAR