BEGIN:VCALENDAR
PRODID:-//SINGPromos.com//NONSGML v1.0//EN
VERSION:2.0
CALSCALE:GREGORIAN
METHOD:PUBLISH
X-WR-CALNAME:SINGPromos.com
X-ORIGINAL-URL:https://singpromos.com
X-WR-CALDESC:Events for SINGPromos.com
BEGIN:VEVENT
DTSTART:20161117T000000
DTEND:20161120T235900
DTSTAMP:20260422T212732
CREATED:20161117T135104
LAST-MODIFIED:20161117T175835
UID:192216@https://singpromos.com
SUMMARY:Here's M1's offers at Consumer Electronic Fair held at Suntec from 17 - 20 Nov 2016
DESCRIPTION:Check out M1's offers at the Consumer Electronics Fair held at Suntec Convention Centre Hall 405 from 17 - 20 November 2016, 12pm - 9pm daily. Enjoy 1Gbps fibre broadband at $32/mth. Top-up $5/mth for wireless AC router. For more information, visit [ https://singpromos.com/telecoms/heres-m1s-offers-at-consumer-electronic-fair-held-at-suntec-from-17-20-nov-2016-192216/ ]. 
LOCATION:039593
URL:https://singpromos.com/telecoms/heres-m1s-offers-at-consumer-electronic-fair-held-at-suntec-from-17-20-nov-2016-192216/
END:VEVENT
END:VCALENDAR