BEGIN:VCALENDAR
PRODID:-//SINGPromos.com//NONSGML v1.0//EN
VERSION:2.0
CALSCALE:GREGORIAN
METHOD:PUBLISH
X-WR-CALNAME:SINGPromos.com
X-ORIGINAL-URL:https://singpromos.com
X-WR-CALDESC:Events for SINGPromos.com
BEGIN:VEVENT
DTSTART:20161118T000000
DTEND:20161120T235900
DTSTAMP:20260422T082320
CREATED:20161118T104110
LAST-MODIFIED:20161118T104110
UID:192341@https://singpromos.com
SUMMARY:Shop at Robinsons and get a free $50 Voucher with min $250 nett spend from 18 - 20 Nov 2016
DESCRIPTION:This weekend, all shoppers receive a $50 voucher with every $250 nett spend at Robinsons. Exclusions, terms & conditions apply. Check in-store for details.. For more information, visit [ https://singpromos.com/department-stores/shop-at-robinsons-and-get-a-free-50-voucher-with-min-250-nett-spend-from-18-20-nov-2016-192341/ ]. 
LOCATION:
URL:https://singpromos.com/department-stores/shop-at-robinsons-and-get-a-free-50-voucher-with-min-250-nett-spend-from-18-20-nov-2016-192341/
END:VEVENT
END:VCALENDAR